BEGIN:VCALENDAR
VERSION:2.0
PRODID:-//ChamberMaster//Event Calendar 2.0//EN
METHOD:PUBLISH
X-PUBLISHED-TTL:P1H
REFRESH-INTERVAL:P1H
CALSCALE:GREGORIAN
BEGIN:VTIMEZONE
TZID:America/New_York
BEGIN:DAYLIGHT
RRULE:FREQ=YEARLY;BYMONTH=3;BYDAY=2SU
DTSTART:20070101T000000
TZOFFSETFROM:-0500
TZOFFSETTO:-0400
TZNAME:Eastern Daylight Time
END:DAYLIGHT
BEGIN:STANDARD
RRULE:FREQ=YEARLY;BYMONTH=11;BYDAY=1SU
DTSTART:20070101T000000
TZOFFSETFROM:-0400
TZOFFSETTO:-0500
TZNAME:Eastern Standard Time
END:STANDARD
END:VTIMEZONE
BEGIN:VEVENT
DTSTART;TZID=America/New_York:20260609T130000
DTEND;TZID=America/New_York:20260610T180000
X-MICROSOFT-CDO-ALLDAYEVENT:FALSE
SUMMARY:BIA 4th Annual Washington D.C. Fly-In
DESCRIPTION:Join fellow NH business leaders for the BIA's 4th Annual D.C. Fly-In in Washington D.C. on June 9th and 10th. This marquee event provides business leaders exclusive access and insights into the issues\, policies\, and politics impacting the business community at the federal level. Fly-in participants receive front-row seats at programming designed to deliver information and analysis tailored to their business priorities and goals from top elected officials and policy experts. Access and reserved tickets to Senator Shaheen's annual NH Business Day luncheon and reception are included with registration.Suggested Hotel Accommodations:Hyatt Regency Washington on Capitol HillHilton Washington DC Capitol HillThe Hay-AdamsSofitel Lafayette SquareThe Mayflower HotelInterContinental\, The WharfCapitol Hill Hotel
X-ALT-DESC;FMTTYPE=text/html:<!DOCTYPE html><html><head><title></title></head><body aria-disabled="false"><p>Join fellow NH business leaders for the BIA&rsquo\;s 4th Annual D.C. Fly-In in Washington D.C. on June 9th and 10th. This marquee event provides business leaders exclusive access and insights into the issues\, policies\, and politics impacting the business community at the federal level. Fly-in participants receive front-row seats at programming designed to deliver information and analysis tailored to their business priorities and goals from top elected officials and policy experts. Access and reserved tickets to Senator Shaheen&rsquo\;s annual NH Business Day luncheon and reception are included with registration.</p><p>Suggested Hotel Accommodations:</p><p><a fr-original-class="fr-strong" fr-original-style="" href="https://www.hyatt.com/hyatt-regency/en-US/wasrw-hyatt-regency-washington-on-capitol-hill?src=adm_sem_crp_chico_crp_ppc_NAM-UnitedStates-DC-Washington-HR-WASRW_google_Evergreen2022_e_hyatt%20regency%20washington%20dc&gad_source=1&gclid=CjwKCAiAopuvBhBCEiwAm8jaMea5OrP4DqNGoBkWYJbPcUfrjoIviTFxf-FDDUaReKnd33yHKw9DSBoC7ycQAvD_BwE" rel="noopener noreferrer" style="user-select: auto\; font-weight: 700\;" target="_blank">Hyatt Regency Washington on Capitol Hill</a></p><p><a fr-original-class="fr-strong" fr-original-style="" href="https://www.hilton.com/en/hotels/dcadchh-hilton-washington-dc-capitol-hill/" rel="noopener noreferrer" style="user-select: auto\; font-weight: 700\;" target="_blank">Hilton Washington DC Capitol Hill</a></p><p><a fr-original-class="fr-strong" fr-original-style="" href="https://www.hayadams.com/" rel="noopener noreferrer" style="user-select: auto\; font-weight: 700\;" target="_blank">The Hay-Adams</a></p><p><a fr-original-class="fr-strong" fr-original-style="" href="https://sofitel.accor.com/en/hotels/3293.html?merchantid=ppc-sof-mar-goo-ww-en-sear&sourceid=bp-cen&utm_source=google&utm_medium=cpc&utm_campaign=ppc-sof-mar-goo-ww-en-ww-mix-sear-bp&utm_term=mar&utm_content=ww-en-US-V7300&gad_source=1&gclid=CjwKCAiA6KWvBhAREiwAFPZM7kpuVZalexEfdu7-XxITci9QrKpugqppevEILsYvToNj2lWMl7SBPhoCZ8sQAvD_BwE" rel="noopener noreferrer" style="user-select: auto\; font-weight: 700\;" target="_blank">Sofitel Lafayette Square</a></p><p><a fr-original-class="fr-strong" fr-original-style="" href="https://www.themayflowerhotel.com/" rel="noopener noreferrer" style="user-select: auto\; font-weight: 700\;" target="_blank">The Mayflower Hotel</a></p><p><a fr-original-class="fr-strong" fr-original-style="" href="https://wharfintercontinentaldc.com/?gad_source=1&gclid=CjwKCAiA6KWvBhAREiwAFPZM7ifOugpfOro3SW4QGZ6RA7TVMoYwZBKBzDbX_HjskHB1TAOIg6BhyRoCurIQAvD_BwE" rel="noopener noreferrer" style="user-select: auto\; font-weight: 700\;" target="_blank">InterContinental\, The Wharf</a></p><p><a fr-original-class="fr-strong" fr-original-style="" href="https://www.capitolhillhotel-dc.com/?utm_source=google%20my%20business&utm_medium=listing&utm_campaign=visit%20website" rel="noopener noreferrer" style="user-select: auto\; font-weight: 700\;" target="_blank">Capitol Hill Hotel</a></p><p><br></p></body></html>
LOCATION:Washington DC
UID:e.2270.1448482
SEQUENCE:3
DTSTAMP:20260422T015020Z
URL:https://members.biaofnh.com/calendar/Details/bia-4th-annual-washington-d-c-fly-in-1715481?sourceTypeId=Hub
END:VEVENT
END:VCALENDAR
